BEGIN:VCALENDAR
VERSION:2.0
PRODID:-//Tri County Council for Southern Maryland - ECPv6.15.20//NONSGML v1.0//EN
CALSCALE:GREGORIAN
METHOD:PUBLISH
X-ORIGINAL-URL:https://tccsmd.org
X-WR-CALDESC:Events for Tri County Council for Southern Maryland
REFRESH-INTERVAL;VALUE=DURATION:PT1H
X-Robots-Tag:noindex
X-PUBLISHED-TTL:PT1H
BEGIN:VTIMEZONE
TZID:America/New_York
BEGIN:DAYLIGHT
TZOFFSETFROM:-0500
TZOFFSETTO:-0400
TZNAME:EDT
DTSTART:20190310T070000
END:DAYLIGHT
BEGIN:STANDARD
TZOFFSETFROM:-0400
TZOFFSETTO:-0500
TZNAME:EST
DTSTART:20191103T060000
END:STANDARD
BEGIN:DAYLIGHT
TZOFFSETFROM:-0500
TZOFFSETTO:-0400
TZNAME:EDT
DTSTART:20200308T070000
END:DAYLIGHT
BEGIN:STANDARD
TZOFFSETFROM:-0400
TZOFFSETTO:-0500
TZNAME:EST
DTSTART:20201101T060000
END:STANDARD
BEGIN:DAYLIGHT
TZOFFSETFROM:-0500
TZOFFSETTO:-0400
TZNAME:EDT
DTSTART:20210314T070000
END:DAYLIGHT
BEGIN:STANDARD
TZOFFSETFROM:-0400
TZOFFSETTO:-0500
TZNAME:EST
DTSTART:20211107T060000
END:STANDARD
BEGIN:DAYLIGHT
TZOFFSETFROM:-0500
TZOFFSETTO:-0400
TZNAME:EDT
DTSTART:20220313T070000
END:DAYLIGHT
BEGIN:STANDARD
TZOFFSETFROM:-0400
TZOFFSETTO:-0500
TZNAME:EST
DTSTART:20221106T060000
END:STANDARD
BEGIN:DAYLIGHT
TZOFFSETFROM:-0500
TZOFFSETTO:-0400
TZNAME:EDT
DTSTART:20230312T070000
END:DAYLIGHT
BEGIN:STANDARD
TZOFFSETFROM:-0400
TZOFFSETTO:-0500
TZNAME:EST
DTSTART:20231105T060000
END:STANDARD
BEGIN:DAYLIGHT
TZOFFSETFROM:-0500
TZOFFSETTO:-0400
TZNAME:EDT
DTSTART:20240310T070000
END:DAYLIGHT
BEGIN:STANDARD
TZOFFSETFROM:-0400
TZOFFSETTO:-0500
TZNAME:EST
DTSTART:20241103T060000
END:STANDARD
BEGIN:DAYLIGHT
TZOFFSETFROM:-0500
TZOFFSETTO:-0400
TZNAME:EDT
DTSTART:20250309T070000
END:DAYLIGHT
BEGIN:STANDARD
TZOFFSETFROM:-0400
TZOFFSETTO:-0500
TZNAME:EST
DTSTART:20251102T060000
END:STANDARD
BEGIN:DAYLIGHT
TZOFFSETFROM:-0500
TZOFFSETTO:-0400
TZNAME:EDT
DTSTART:20260308T070000
END:DAYLIGHT
BEGIN:STANDARD
TZOFFSETFROM:-0400
TZOFFSETTO:-0500
TZNAME:EST
DTSTART:20261101T060000
END:STANDARD
END:VTIMEZONE
BEGIN:VEVENT
DTSTART;TZID=America/New_York:20250502T180000
DTEND;TZID=America/New_York:20250502T193000
DTSTAMP:20260423T163230
CREATED:20250502T131111Z
LAST-MODIFIED:20250502T131111Z
UID:6128-1746208800-1746214200@tccsmd.org
SUMMARY:Charles County Climate Action Plan Public Meetings
DESCRIPTION:Charles County is developing a Climate Action Plan (CAP)\, and wants to hear from you! \nAll meetings will be held from 6:00 pm to 7:30 pm at the following dates and locations: \n5/6 – Nanjemoy Community Center\n5/8 – Newburg Volunteer Fire Department \nTo learn more and RSVP\, scan the QR code on the flyer or visit https://www.charlescountymd.gov/government/climate-action-plan and click on the “Upcoming\nMeetings” dropdown.
URL:https://tccsmd.org/event/chco-climate-action-mtgs/
LOCATION:Nanjemoy Community Center\, 4375 Port Tobacco Rd\, Nanjemoy\, Maryland\, 20662
END:VEVENT
BEGIN:VEVENT
DTSTART;TZID=America/New_York:20250324T180000
DTEND;TZID=America/New_York:20250324T200000
DTSTAMP:20260423T163230
CREATED:20250307T172325Z
LAST-MODIFIED:20250307T180329Z
UID:6037-1742839200-1742846400@tccsmd.org
SUMMARY:Indian Head Study Public Open House - Mar 24\, 2025
DESCRIPTION:Help Shape the Future of Indian Head’s Transportation and Join us at a Public Open House \nDrop in March 24\, 2025 from 6 – 8pm at the Town of Indian Head Pavilion \n Learn about the Transportation Corridor Study for MD 210.\n Share your thoughts on traffic\, safety\, and access.\n Be part of the conversation to improve mobility and support the readiness of Naval Support Facility Indian Head. \nFor more Information\, contact:\nGeorge Clark at the Tri-County Council for Southern Maryland | (301) 274-1922 \nIndian Head Open House 3-24-25 Flyer
URL:https://tccsmd.org/event/indian-head-study-public-open-house-mar-24-2025/
LOCATION:Town of Indian Head Pavilion\, Town of Indian Head Pavilion\, Indian Head\, MD\, 20640\, United States
ORGANIZER;CN="TCCSMD":MAILTO:info@tccsmd.org
END:VEVENT
BEGIN:VEVENT
DTSTART;TZID=America/New_York:20250220T190000
DTEND;TZID=America/New_York:20250220T210000
DTSTAMP:20260423T163230
CREATED:20231026T190712Z
LAST-MODIFIED:20250129T190133Z
UID:5502-1740078000-1740085200@tccsmd.org
SUMMARY:Southern Maryland Reception - February 20\, 2025
DESCRIPTION:The Tri-County Council for Southern Maryland announces the 27th Annual Southern Maryland Reception. This event is a cooperative effort with the Calvert\, Charles and St. Mary’s Chambers of Commerce\, the Southern Maryland Minority Chamber of Commerce\, the members of the Southern Maryland Economic Development Association\, the Southern Maryland Delegation\, and the constituents of Southern Maryland. This is your opportunity to showcase the Southern Maryland Region to the rest of the State and meet with elected officials\, Cabinet Secretaries\, and agency heads from throughout the State of Maryland. Please join us as we celebrate with networking\, fellowship\, food\, and music. \nWHEN: February 20\, 2025    7pm – 9pm\nWHERE: Graduate Annapolis\, 126 West Street Annapolis\, MD 21401 \nPlease follow the link or QR code on the flyer to register. Southern Maryland Reception 2025 Flyer  or 2025 Reception QR Code \nSponsorships are still available!  \nFor additional information on reservations please contact: Amber Fabricante – afabricante@tccsmd.org  or (301)274-1922 \n 
URL:https://tccsmd.org/event/southern-maryland-reception-february-20-2025/
LOCATION:Graduate Annapolis\, 126 West Street\, Annapolis\, MD\, 21401\, United States
CATEGORIES:So MD Reception
ORGANIZER;CN="TCCSMD":MAILTO:info@tccsmd.org
END:VEVENT
BEGIN:VEVENT
DTSTART;TZID=America/New_York:20250212T180000
DTEND;TZID=America/New_York:20250212T193000
DTSTAMP:20260423T163230
CREATED:20250129T231919Z
LAST-MODIFIED:20250129T231919Z
UID:6003-1739383200-1739388600@tccsmd.org
SUMMARY:Traffic Safety Meeting
DESCRIPTION:The public is cordially invited to attend a traffic safety meeting for the State of Maryland. We invite you to ask questions\, share concerns and provide input for the development of the 2026-2030 MD Strategic Highway Safety Plan (SHSP). \nAn in-person and virtual option will be available. \nSee the flyer for upcoming dates and locations.
URL:https://tccsmd.org/event/traffic-safety-meeting/
LOCATION:Tri-County Council for Southern MD\, 15045 Burnt Store Road\, Hughesville\, MD\, 20637\, United States
ORGANIZER;CN="TCCSMD":MAILTO:info@tccsmd.org
END:VEVENT
BEGIN:VEVENT
DTSTART;TZID=America/New_York:20240515T100000
DTEND;TZID=America/New_York:20240515T160000
DTSTAMP:20260423T163230
CREATED:20240430T233810Z
LAST-MODIFIED:20240430T233830Z
UID:5701-1715767200-1715788800@tccsmd.org
SUMMARY:13th Annual Hiring Event & 2nd Annual Family Resource Day!
DESCRIPTION:13th Annual Hiring Event & 2nd Annual Family Resource Day!\nMay 15\, 2024 – 10am-4pm @ Graces Event Center\, 4045 Renner Road\, Waldorf\, MD  20602\nThis Hiring Event is not just your typical job fair—it’s a comprehensive day dedicated to networking directly with hiring managers. Here\, you’ll have the chance to delve into diverse job prospects\, distinguish yourself from the crowd of applicants\, and for some\, even secure a job offer on the spot. \nJobseekers – Click here to register \nBusinesses – Click here to register your business \n 
URL:https://tccsmd.org/event/hiringevent_familyresource/
LOCATION:Graces Event Center\, 4045 Renner Rd\, Waldorf\, MD\, 20602\, United States
ORGANIZER;CN="TCCSMD":MAILTO:info@tccsmd.org
END:VEVENT
BEGIN:VEVENT
DTSTART;VALUE=DATE:20230519
DTEND;VALUE=DATE:20230520
DTSTAMP:20260423T163230
CREATED:20230421T133300Z
LAST-MODIFIED:20230421T133315Z
UID:5353-1684454400-1684540799@tccsmd.org
SUMMARY:Bike to Work Day - May 19\, 2023
DESCRIPTION:Bike to Work Day – May 19\, 2023 \nRegister today at BikeToWorkMetroDC.org \nView the Bike to Work Day Flyer  \nBike to Work Day is funded by DDOT\, MDOT\, VDOT and USDOT. \n 
URL:https://tccsmd.org/event/biketoworkday-may-19-2023/
LOCATION:MD
END:VEVENT
BEGIN:VEVENT
DTSTART;TZID=America/New_York:20230302T190000
DTEND;TZID=America/New_York:20230302T210000
DTSTAMP:20260423T163230
CREATED:20230208T190415Z
LAST-MODIFIED:20230208T190422Z
UID:5287-1677783600-1677790800@tccsmd.org
SUMMARY:Southern Maryland Reception - March 2\, 2023
DESCRIPTION:The Tri-County Council for Southern Maryland announces the 25th Annual Southern Maryland Reception. This event is a cooperative effort with the Calvert\, Charles\, and St. Mary’s Chambers of Commerce\, the Southern Maryland Minority Chamber of Commerce\, the members of the Southern Maryland Economic Development Association\, the Southern Maryland Delegation\, and the constituents of Southern Maryland. This is your opportunity to showcase the Southern Maryland Region to the rest of the State and meet with elected officials\, Cabinet Secretaries\, and agency heads from throughout the State of Maryland. Please join us as we celebrate with networking\, fellowship\, food\, and music. \nSouthern Maryland Reception 2023 Registration
URL:https://tccsmd.org/event/southern-maryland-reception-march-2-2023/
LOCATION:Graduate Annapolis\, 126 West Street\, Annapolis\, MD\, 21401\, United States
ORGANIZER;CN="TCCSMD":MAILTO:info@tccsmd.org
END:VEVENT
BEGIN:VEVENT
DTSTART;TZID=America/New_York:20211117T160000
DTEND;TZID=America/New_York:20211117T170000
DTSTAMP:20260423T163230
CREATED:20211116T212102Z
LAST-MODIFIED:20211116T212606Z
UID:4838-1637164800-1637168400@tccsmd.org
SUMMARY:TCCSMD Full Council Meeting
DESCRIPTION:TCCSMD will be holding a virtual Full Council Meeting on Wednesday\, November 17 @ 4:00 pm \nFor additional information\, please contact info@tccsmd.org \nMicrosoft Teams meeting \nJoin on your computer or mobile app \nClick here to join the meeting \nOr call in (audio only) \n+1 443-819-0854\,\,48900164#   United States\, Baltimore \nPhone Conference ID: 489 001 64#
URL:https://tccsmd.org/event/tccsmd-full-council-meeting-4/
LOCATION:MD
ORGANIZER;CN="TCCSMD":MAILTO:info@tccsmd.org
END:VEVENT
BEGIN:VEVENT
DTSTART;VALUE=DATE:20210922
DTEND;VALUE=DATE:20210923
DTSTAMP:20260423T163230
CREATED:20210805T131137Z
LAST-MODIFIED:20210805T131137Z
UID:4734-1632268800-1632355199@tccsmd.org
SUMMARY:CarFreeDay September 22\, 2021
DESCRIPTION:CarFreeDay 2021 is September 22nd! \nTake the Free Pledge at CarFreeMetroDC.org to become eligible for great prizes. \nView the CFD 2021 Poster here
URL:https://tccsmd.org/event/carfreeday2021/
LOCATION:MD
ORGANIZER;CN="Commuter Connections":MAILTO:ridematching@mwcog.org
END:VEVENT
BEGIN:VEVENT
DTSTART;TZID=America/New_York:20210819T100000
DTEND;TZID=America/New_York:20210819T140000
DTSTAMP:20260423T163230
CREATED:20210816T142258Z
LAST-MODIFIED:20210816T142322Z
UID:4761-1629367200-1629381600@tccsmd.org
SUMMARY:Charles County Online Job Fair
DESCRIPTION:Looking To Find Work Or A New Job? Register TODAY for the Charles County MD Online Job Fair! Great Career Opportunities Await You!\n\n\n\n\n\n\n\nThe Maryland Department of Labor and the Tri-County Council for Southern Maryland is hosting an Online Charles County Job Fair on Thursday\, August 19\, 2021\, from 10 am to 2 pm. Up to 16\, HIRING Local Businesses are looking to fill current openings immediately. Register TODAY to get in front of a Hiring Manager for a First Interview! \nAPPLY On Company Websites & Share Your Resume Before the Event! \nLogon Dressed for Success and READY to Share Why YOU Are The Best Candidate for the JOB! \nThis hiring event is brought to our community by the Tri-County Council for Southern Maryland and the Maryland Department of Labor. It is a free online event open to the general public. \nAccess links to meet each business through this flyer: Charles County Job Fair
URL:https://tccsmd.org/event/charles-county-online-job-fair/
LOCATION:MD
END:VEVENT
BEGIN:VEVENT
DTSTART;TZID=America/New_York:20210521T100000
DTEND;TZID=America/New_York:20210521T170000
DTSTAMP:20260423T163230
CREATED:20210310T151626Z
LAST-MODIFIED:20210310T151923Z
UID:4498-1621591200-1621616400@tccsmd.org
SUMMARY:Bike to Work Day 2021
DESCRIPTION:Join us Friday\, May 21st for the 20th Anniversary Bike to Work Day! \n 2021 Tri County Bike to Work Flyer \nPre-Register by May 14 for FREE T-SHIRT* & BIKE RAFFLE\n*Free refreshments & giveaways while supplies last. \nIt’s fast\, free\, and easy to register for BTWD at www.biketoworkmetrodc.org or by calling (800) 745-RIDE \nQuestions\, contact George Clark\, Tri-County Council for Southern Maryland at gclark@tccsmd.org 301-643-7257
URL:https://tccsmd.org/event/biketoworkday/
LOCATION:Bike Doctor\, 3200 Leonardtown Rd\, Waldorf\, MD\, 20601\, United States
ORGANIZER;CN="TCCSMD":MAILTO:info@tccsmd.org
END:VEVENT
BEGIN:VEVENT
DTSTART;TZID=America/New_York:20210504T100000
DTEND;TZID=America/New_York:20210504T130000
DTSTAMP:20260423T163230
CREATED:20210426T152917Z
LAST-MODIFIED:20210426T152918Z
UID:4574-1620122400-1620133200@tccsmd.org
SUMMARY:2021 Retail/Hospitality Virtual Job Fair
DESCRIPTION:Looking for a job in Retail\, Hotel or a Restaurant? Meet hiring managers recruiting for immediate career opportunities. Register TODAY! \n\n\n\n\n\n\n\nThe Tri-County Council for Southern Maryland is hosting a Retail/Hospitality Industry Virtual Job Fair on Tuesday\, May 18\, 2021\, from 10 am to 1 pm. As many as 20 local businesses with immediate openings will be online and ready to interview for current positions. Many career forward positions will be available like Cashier\, Team Member\, Keyholder\, Shift Leader\, Assistant Manager\, Store Manager\, General Manager\, Concierge\, Guest Services\, Housekeeping\, and more. We encourage you to look at the many career paths offered by each of the hiring businesses. All participating businesses are looking for individuals with outstanding customer service skills\, a hunger to learn and advance with a career in service. Management candidates bring your previous experience and openness to learn more and entry-level candidates bring the enthusiasm to work and learn and start a career! This online event is free and open to the general public. \nUpon completing your Eventbrite registration\, please send your resume to tccsmdgethired@tccsmd.org to be distributed to all hiring businesses for the event. Please include Retail/Hospitality Industry in the subject line. Check your email regularly for updates listing participating businesses and their immediate openings. Most employment opportunities will be in Charles\, Calvert\, and St. Mary’s County\, MD \nYou may attend this online event using any smart device or computer. If you select to use your cell phone or tablet you will need to download the free Microsoft Teams app from your app store. Those accessing the job fair from a computer\, the link will automatically join you through your internet browser.
URL:https://tccsmd.org/event/2021-retail-hospitality-virtual-job-fair/
LOCATION:MD
END:VEVENT
BEGIN:VEVENT
DTSTART;TZID=America/New_York:20210504T100000
DTEND;TZID=America/New_York:20210504T130000
DTSTAMP:20260423T163230
CREATED:20210405T124707Z
LAST-MODIFIED:20210405T124707Z
UID:4548-1620122400-1620133200@tccsmd.org
SUMMARY:2021 IT Professional Industry Virtual Job Fair - Jobseeker Registration
DESCRIPTION:Looking for a job in the IT/Professional Industry? Get in front of hiring managers recruiting for immediate career opportunities. \n\n\n\n\n\n\n\nThe Tri-County Council for Southern Maryland is hosting an IT/Professional Industry Virtual Job Fair on Tuesday\, May 4th\, 2021\, from 10 am to 1 pm. As many as 20 local businesses with immediate openings will be online and ready to interview for current positions. Many entry- level positions as well as skilled level positions will be available. We encourage all career seekers in the Tri-County Area looking for an opportunity in the IT/Professional Industry to attend this event. This online event is free and open to the general public. \nUpon completing your Eventbrite registration\, please send your resume to sagbley@tccsmd.org to be distributed to all hiring businesses for the event. Please include IT/Professional Resume in the subject line. Check your email regularly for updates listing participating businesses and their immediate openings. \nYou may attend this online event using any smart device or computer. If you select to use your cell phone or tablet you will need to download the free Microsoft Teams app from your app store. Those accessing the job fair from a computer\, the link will automatically join you through your internet browser. \nThis hiring event is brought to our community by the Tri-County Council for Southern Maryland to support our business economy and present employment opportunities to our residents that allow them to work near home.
URL:https://tccsmd.org/event/2021-it-professional-industry-virtual-job-fair-jobseeker-registration/
LOCATION:MD
END:VEVENT
BEGIN:VEVENT
DTSTART;TZID=America/New_York:20210420T100000
DTEND;TZID=America/New_York:20210420T130000
DTSTAMP:20260423T163230
CREATED:20210330T155502Z
LAST-MODIFIED:20210330T155502Z
UID:4535-1618912800-1618923600@tccsmd.org
SUMMARY:2021 Healthcare Industry Virtual Job Fair
DESCRIPTION:The Tri-County Council for Southern Maryland is hosting a Healthcare Industry Virtual Job Fair on Tuesday\, March 30\, 2021\, from 10 am to 1 pm. As many as 25 local businesses with immediate openings will be online and ready to interview for current positions. Many entry- level positions like Certified Nursing Assistants and Direct Support Professionals\, as well as advanced career positions such as Licensed Practical Nurses and more. We encourage all career seekers in the Tri-County Area looking for an opportunity in construction to attend this event. This online event is free and open to the general public. \nUpon completing your Eventbrite registration\, please send your resume to tccsmdgethired@tccsmd.org to be distributed to all hiring businesses for the event. Please include Healthcare Industry in the subject line.Check your email regularly for updates listing participating businesses and their immediate openings. \nYou may attend this online event using any smart device or computer. If you select to use your cell phone or tablet you will need to download the free Microsoft Teams app from your app store. Those accessing the job fair from a computer\, the link will automatically join you through your internet browser. \nThis hiring event is brought to our community by the Tri-County Council for Southern Maryland to support our business economy and present employment opportunities to our residents that allow them to work near home.
URL:https://tccsmd.org/event/2021-healthcare-industry-virtual-job-fair/
LOCATION:MD
END:VEVENT
BEGIN:VEVENT
DTSTART;TZID=America/New_York:20210330T100000
DTEND;TZID=America/New_York:20210330T130000
DTSTAMP:20260423T163230
CREATED:20210330T155841Z
LAST-MODIFIED:20210330T155841Z
UID:4537-1617098400-1617109200@tccsmd.org
SUMMARY:2021 Construction Industry Job Fair
DESCRIPTION:The Tri-County Council for Southern Maryland is hosting a Construction Industry Virtual Job Fair on Tuesday\, March 30\, 2021\, from 10 am to 1 pm. As many as 20 local businesses with immediate openings will be online and ready to interview for current positions. We encourage all career seekers in the Tri-County Area looking for an opportunity in construction to attend this event. This online event is free and open to the general public. \nUpon completing your Eventbrite registration\, please send your resume to jchembars@tccsmd.org to be distributed to all hiring businesses for the event. Please include Construction Industry in the subject line.Check your email regularly for updates listing participating businesses and their immediate openings. \nYou may attend this online event using any smart device or computer. If you select to use your cell phone or tablet you will need to download the free Microsoft Teams app from your app store. Those accessing the job fair from a computer\, the link will automatically join you through your internet browser. \nThis hiring event is brought to our community by the Tri-County Council for Southern Maryland to support our business economy and present employment opportunities to our residents that allow them to work near home.
URL:https://tccsmd.org/event/2021-construction-industry-job-fair/
LOCATION:MD
END:VEVENT
BEGIN:VEVENT
DTSTART;TZID=America/New_York:20210128T180000
DTEND;TZID=America/New_York:20210128T193000
DTSTAMP:20260423T163230
CREATED:20210126T215556Z
LAST-MODIFIED:20210128T172630Z
UID:4441-1611856800-1611862200@tccsmd.org
SUMMARY:TCCSMD Full Council Meeting
DESCRIPTION:TCCSMD will be holding a virtual Full Council Meeting on Thursday\, January 28 @ 6:00 pm \n2021 TCCSMD Executive & Full Council Meeting dates \nFull Council Agenda 1.28.21 \nMinutes – Full Council – 10.14.20 \nFull Council Package 1.28.21 \nNominating Committee – 2021 \nMicrosoft Teams meeting – Join on your computer or mobile app \nClick here to join the meeting \nOr call in (audio only) +1 443-819-0854\,\,602544941#   United States\, Baltimore \nPhone Conference ID: 602 544 941#
URL:https://tccsmd.org/event/tccsmd-full-council-meeting-3/
LOCATION:MD
ORGANIZER;CN="TCCSMD":MAILTO:info@tccsmd.org
END:VEVENT
BEGIN:VEVENT
DTSTART;TZID=America/New_York:20201014T180000
DTEND;TZID=America/New_York:20201014T190000
DTSTAMP:20260423T163230
CREATED:20201014T163457Z
LAST-MODIFIED:20201014T163457Z
UID:4315-1602698400-1602702000@tccsmd.org
SUMMARY:TCCSMD Full Council Meeting
DESCRIPTION:TCCSMD will be holding a virtual Full Council Meeting on Wednesday\, October 14th @ 6:00 pm \nJoin Microsoft Teams Meeting \n+1 443-819-0854   United States\, Baltimore (Toll) \nConference ID: 605 431 327#
URL:https://tccsmd.org/event/tccsmd-full-council-meeting-2/
LOCATION:MD
ORGANIZER;CN="TCCSMD":MAILTO:info@tccsmd.org
END:VEVENT
BEGIN:VEVENT
DTSTART;TZID=America/New_York:20200923T100000
DTEND;TZID=America/New_York:20200923T160000
DTSTAMP:20260423T163230
CREATED:20200908T191906Z
LAST-MODIFIED:20200908T191906Z
UID:4269-1600855200-1600876800@tccsmd.org
SUMMARY:The 9th Annual Southern Maryland Hiring Event
DESCRIPTION:The 9th Annual Southern Maryland Hiring Event will be held virtually September 23\, 2020 from 10am to 4pm. \nGet Hired Virtually!  \nJobseeker Registration Link –  https://bit.ly/TCCSMDGetHired_Virtually \nBusiness Registration Link – http://bit.ly/tccsmdgethired_employer \nFor more information contact Yvette Turner yturner@tccsmd.org \n 
URL:https://tccsmd.org/event/the-9th-annual-southern-maryland-hiring-event/
LOCATION:MD
END:VEVENT
BEGIN:VEVENT
DTSTART;TZID=America/New_York:20200813T160000
DTEND;TZID=America/New_York:20200813T163000
DTSTAMP:20260423T163230
CREATED:20200813T180754Z
LAST-MODIFIED:20200813T180754Z
UID:4255-1597334400-1597336200@tccsmd.org
SUMMARY:TCCSMD  Special Full Council Meeting
DESCRIPTION:TCCSMD will be holding a Special virtual Full Council Meeting on Thursday\, August 13 @ 4:00 pm \nJoin Microsoft Teams Meeting \n+1 443-819-0854   United States\, Baltimore (Toll) \nConference ID: 537 231 049#
URL:https://tccsmd.org/event/tccsmd-special-full-council-meeting/
LOCATION:MD
ORGANIZER;CN="TCCSMD":MAILTO:info@tccsmd.org
END:VEVENT
BEGIN:VEVENT
DTSTART;TZID=America/New_York:20200702T163000
DTEND;TZID=America/New_York:20200702T173000
DTSTAMP:20260423T163230
CREATED:20200701T141648Z
LAST-MODIFIED:20200701T141648Z
UID:4220-1593707400-1593711000@tccsmd.org
SUMMARY:TCCSMD Full Council Meeting
DESCRIPTION:TCCSMD will be holding a Virtual Full Council Meeting on Thursday\, July 2nd @ 4:30 pm \nJoin Microsoft Teams Meeting \n+1 443-819-0854   United States\, Baltimore (Toll) \nConference ID: 852 104 19# \nPlease email info@tccsmd.org for more information.
URL:https://tccsmd.org/event/tccsmd-full-council-meeting/
LOCATION:MD
ORGANIZER;CN="TCCSMD":MAILTO:info@tccsmd.org
END:VEVENT
BEGIN:VEVENT
DTSTART;TZID=America/New_York:20200625T180000
DTEND;TZID=America/New_York:20200625T190000
DTSTAMP:20260423T163230
CREATED:20200625T195906Z
LAST-MODIFIED:20200625T200820Z
UID:4186-1593108000-1593111600@tccsmd.org
SUMMARY:TCCSMD Full Council Meeting
DESCRIPTION:TCCSMD will be holding a Virtual Full Council Meeting on Thursday\, June 25 @ 6 pm \nJoin Microsoft Teams Meeting \n+1 443-819-0854   United States\, Baltimore (Toll) \nConference ID: 803 838 195# \nPlease email info@tccsmd.org for more information.
URL:https://tccsmd.org/event/tccsmd-meeting-4/
LOCATION:MD
ORGANIZER;CN="TCCSMD":MAILTO:info@tccsmd.org
END:VEVENT
BEGIN:VEVENT
DTSTART;TZID=America/New_York:20200625T163000
DTEND;TZID=America/New_York:20200625T173000
DTSTAMP:20260423T163230
CREATED:20200625T195629Z
LAST-MODIFIED:20200625T195629Z
UID:4184-1593102600-1593106200@tccsmd.org
SUMMARY:TCCSMD Meeting
DESCRIPTION:TCCSMD will be holding an Executive Board Meeting on Thursday\, June 25 @ 4:30 pm \nPlease email info@tccsmd.org for more information.
URL:https://tccsmd.org/event/tccsmd-meeting-3/
LOCATION:MD
ORGANIZER;CN="TCCSMD":MAILTO:info@tccsmd.org
END:VEVENT
BEGIN:VEVENT
DTSTART;TZID=America/New_York:20200521T083000
DTEND;TZID=America/New_York:20200521T093000
DTSTAMP:20260423T163230
CREATED:20200520T164732Z
LAST-MODIFIED:20200520T164732Z
UID:4114-1590049800-1590053400@tccsmd.org
SUMMARY:TCCSMD Meeting
DESCRIPTION:TCCSMD will be holding an Executive Board Meeting on Thursday\, May 21\, 2020 @ 8:30am \nPlease email info@tccsmd.org for more information.
URL:https://tccsmd.org/event/tccsmd-meeting-2/
LOCATION:MD
ORGANIZER;CN="TCCSMD":MAILTO:info@tccsmd.org
END:VEVENT
BEGIN:VEVENT
DTSTART;TZID=America/New_York:20200504T090000
DTEND;TZID=America/New_York:20200504T100000
DTSTAMP:20260423T163230
CREATED:20200430T125538Z
LAST-MODIFIED:20200430T125538Z
UID:4008-1588582800-1588586400@tccsmd.org
SUMMARY:TCCSMD Meeting
DESCRIPTION:TCCSMD will be holding an Executive Board Meeting on Monday\, May 4th at 9am \nPlease email info@tccsmd.org for more information.
URL:https://tccsmd.org/event/tccsmd-meeting/
LOCATION:MD
ORGANIZER;CN="TCCSMD":MAILTO:info@tccsmd.org
END:VEVENT
BEGIN:VEVENT
DTSTART;TZID=America/New_York:20200227T190000
DTEND;TZID=America/New_York:20200227T210000
DTSTAMP:20260423T163230
CREATED:20200220T165200Z
LAST-MODIFIED:20200220T165200Z
UID:1214-1582830000-1582837200@tccsmd.org
SUMMARY:Southern Maryland Reception
DESCRIPTION:The Tri-County Council for Southern Maryland announces the 24th Annual Southern Maryland Reception. This event is a cooperative effort with the Calvert\, Charles and St. Mary’s Chambers of Commerce\, the Southern Maryland Minority Chamber of Commerce\, the members of the Southern Maryland Economic Development Association\, the Southern Maryland Delegation and the constituents of Southern Maryland. This is your opportunity to showcase the Southern Maryland Region to the rest of the State and meet with elected officials\, Cabinet Secretaries and agency heads from throughout the State of Maryland. Please join us as we celebrate with networking\, fellowship\, food\, and music. \nYou can participate by becoming a: \nChesapeake Bay Sponsor (choice of available exhibit space and 10 reservations) $1500 Patuxent Sponsor (exhibit space and 8 reservations) $1000 \nPotomac Sponsor (5 reservations) $500 Individual Reservation $45 \nNow accepting online registration and payment! Please go to: So MD Reception 2020\nto complete the online registration and pay with credit card OR Make your check payable to the Tri-County Council for Southern MD and mail to: \nTri-County Council for Southern Maryland P.O. Box 745\nHughesville\, MD 20637\nNo later than February 7\, 2020 \nNO REFUNDS AFTER FEBRUARY 7\, 2020\nIN ORDER TO GUARANTEE SPONSORSHIP RECOGNITION AND PRE-PRINTED NAME TAGS\, REGISTRATION MUST BE RECEIVED BY FEBRUARY 7th \n\n\n\n\nFor additional information on reservations or sponsorship contact: Sharon Meyer 301-274-1922 *326 or smeyer@tccsmd.org
URL:https://tccsmd.org/event/southern-maryland-reception/
LOCATION:The Graduate Annapolis\, 126 West Street\, Annapolis\, Maryland\, 21401
END:VEVENT
END:VCALENDAR